BEGIN:VCALENDAR
VERSION:2.0
PRODID:-//wp-events-plugin.com//7.2.3.1//EN
BEGIN:VEVENT
UID:1@pressingonministries.org
DTSTART:20201104T190000Z
DTEND:20201108T190000Z
DTSTAMP:20201023T212430Z
URL:https://pressingonministries.org/events/meeting-in-jacksonville-fl/
SUMMARY:Meeting in Jacksonville\, FL
DESCRIPTION:Join us for the Jubilee at Bible Believers Baptist Church in Ja
 cksonville\, FL. Services will be Nov. 4-8. Please contact the church for 
 more information.
LOCATION:Bible Believers Baptist Church\, 3857 Hartley Road\, Jacksonville\
 , FL\, United States
X-APPLE-STRUCTURED-LOCATION;VALUE=URI;X-ADDRESS=3857 Hartley Road\, Jackson
 ville\, FL\, United States;X-APPLE-RADIUS=100;X-TITLE=Bible Believers Bapt
 ist Church:geo:0,0
END:VEVENT
END:VCALENDAR